BEGIN:VCALENDAR
VERSION:2.0
PRODID:-//Club photo de Boisbriand - ECPv6.15.20//NONSGML v1.0//EN
CALSCALE:GREGORIAN
METHOD:PUBLISH
X-ORIGINAL-URL:https://www.clubphotodeboisbriand.org
X-WR-CALDESC:Évènements pour Club photo de Boisbriand
REFRESH-INTERVAL;VALUE=DURATION:PT1H
X-Robots-Tag:noindex
X-PUBLISHED-TTL:PT1H
BEGIN:VTIMEZONE
TZID:America/New_York
BEGIN:DAYLIGHT
TZOFFSETFROM:-0500
TZOFFSETTO:-0400
TZNAME:EDT
DTSTART:20250309T070000
END:DAYLIGHT
BEGIN:STANDARD
TZOFFSETFROM:-0400
TZOFFSETTO:-0500
TZNAME:EST
DTSTART:20251102T060000
END:STANDARD
BEGIN:DAYLIGHT
TZOFFSETFROM:-0500
TZOFFSETTO:-0400
TZNAME:EDT
DTSTART:20260308T070000
END:DAYLIGHT
BEGIN:STANDARD
TZOFFSETFROM:-0400
TZOFFSETTO:-0500
TZNAME:EST
DTSTART:20261101T060000
END:STANDARD
BEGIN:DAYLIGHT
TZOFFSETFROM:-0500
TZOFFSETTO:-0400
TZNAME:EDT
DTSTART:20270314T070000
END:DAYLIGHT
BEGIN:STANDARD
TZOFFSETFROM:-0400
TZOFFSETTO:-0500
TZNAME:EST
DTSTART:20271107T060000
END:STANDARD
END:VTIMEZONE
BEGIN:VEVENT
DTSTART;TZID=America/New_York:20260527T190000
DTEND;TZID=America/New_York:20260527T220000
DTSTAMP:20260424T055033
CREATED:20250906T215741Z
LAST-MODIFIED:20251003T192652Z
UID:3174-1779908400-1779919200@www.clubphotodeboisbriand.org
SUMMARY:Atelier - Macrophotographie et plan rapproché : analyse et discussions
DESCRIPTION:Formateur : Marc-André Thibodeau \nCouramment utilisée dans la photographie de nature\, la macrophotographie ou plan rapproché est une technique photographique pour capturer des gros plans de petits sujets ou de mettre en valeur les détails d’un sujet. Vous apprendrez différentes prises de vue d’un sujet\, à dévoiler un point de vue unique et de mettre en lumière la beauté cachée qu’on ne capte pas avec l’œil humain. \nVous exploiterez et explorerez un univers entièrement nouveau où les textures\, les motifs et les couleurs émergent avec une intensité saisissante\, presque surréaliste en développant votre créativité. La macrophotographie vous incite à ralentir\, à regarder de plus près et à vous émerveiller des moindres détails. \nVous apprendrez à réaliser des clichés en travaillant en mode manuel\, en lumière naturelle\, à l’aide du posemètre et de l’histogramme de votre appareil photo\, en plus de votre trépied. \nVous êtes convié à découvrir une autre facette de la photographie\, avec votre formateur qui vous donnera des trucs\, des conseils et des astuces pour mettre en valeur la beauté des fleurs naturelles et printanières. \nCette soirée fait suite à l’atelier pratique du 16 mai 2026 et permettra aux participants d’analyser et de commenter les photos prises lors de cette sortie.  Date à confirmer. \n 
URL:https://www.clubphotodeboisbriand.org/evenement/macrophotographie-et-plan-rapproche-analyse-et-discussions/
LOCATION:Maison du citoyen\, 955 Bd de la Grande-Allée\, Boisbriand\, QC\, J7G 1W6\, Canada
CATEGORIES:Atelier
END:VEVENT
END:VCALENDAR