BEGIN:VCALENDAR
VERSION:2.0
PRODID:-//Club photo de Boisbriand - ECPv6.15.20//NONSGML v1.0//EN
CALSCALE:GREGORIAN
METHOD:PUBLISH
X-WR-CALNAME:Club photo de Boisbriand
X-ORIGINAL-URL:https://www.clubphotodeboisbriand.org
X-WR-CALDESC:Évènements pour Club photo de Boisbriand
REFRESH-INTERVAL;VALUE=DURATION:PT1H
X-Robots-Tag:noindex
X-PUBLISHED-TTL:PT1H
BEGIN:VTIMEZONE
TZID:America/New_York
BEGIN:DAYLIGHT
TZOFFSETFROM:-0500
TZOFFSETTO:-0400
TZNAME:EDT
DTSTART:20250309T070000
END:DAYLIGHT
BEGIN:STANDARD
TZOFFSETFROM:-0400
TZOFFSETTO:-0500
TZNAME:EST
DTSTART:20251102T060000
END:STANDARD
BEGIN:DAYLIGHT
TZOFFSETFROM:-0500
TZOFFSETTO:-0400
TZNAME:EDT
DTSTART:20260308T070000
END:DAYLIGHT
BEGIN:STANDARD
TZOFFSETFROM:-0400
TZOFFSETTO:-0500
TZNAME:EST
DTSTART:20261101T060000
END:STANDARD
BEGIN:DAYLIGHT
TZOFFSETFROM:-0500
TZOFFSETTO:-0400
TZNAME:EDT
DTSTART:20270314T070000
END:DAYLIGHT
BEGIN:STANDARD
TZOFFSETFROM:-0400
TZOFFSETTO:-0500
TZNAME:EST
DTSTART:20271107T060000
END:STANDARD
END:VTIMEZONE
BEGIN:VEVENT
DTSTART;TZID=America/New_York:20260423T170000
DTEND;TZID=America/New_York:20260423T190000
DTSTAMP:20260420T043053
CREATED:20260210T003344Z
LAST-MODIFIED:20260403T030825Z
UID:4269-1776963600-1776970800@www.clubphotodeboisbriand.org
SUMMARY:Exposition annuelle - Installation des photographies - Corridor et salles
DESCRIPTION:Principe du premier arrivé\, premier servi selon la mention ci-dessous: \nMention importante : Une indication sera présente sur les murs du corridor\, salles et panneaux vous indiquant dans quelle section vous êtes. En effet\, nous regroupons les photographies BNW ensemble et les photographies couleurs ensemble. \n 
URL:https://www.clubphotodeboisbriand.org/evenement/exposition-annuelle-installation-des-photographies-corridor-et-salles/
LOCATION:QC
CATEGORIES:Exposition
END:VEVENT
BEGIN:VEVENT
DTSTART;TZID=America/New_York:20260424T170000
DTEND;TZID=America/New_York:20260424T220000
DTSTAMP:20260420T043053
CREATED:20250906T204400Z
LAST-MODIFIED:20260106T003035Z
UID:3127-1777050000-1777068000@www.clubphotodeboisbriand.org
SUMMARY:Exposition annuelle 2026 - Vernissage
DESCRIPTION:Bonjour\, \nQuelle belle année déjà qui se termine… \nC’est l’exposition annuelle du Club photographie de Boisbriand et nous débutons par la soirée du vernissage. \nAu plaisir!
URL:https://www.clubphotodeboisbriand.org/evenement/vernissage-de-l-exposition-annuelle-2026/
LOCATION:Maison du citoyen\, 955 Bd de la Grande-Allée\, Boisbriand\, QC\, J7G 1W6\, Canada
CATEGORIES:Exposition
END:VEVENT
BEGIN:VEVENT
DTSTART;TZID=America/New_York:20260425T100000
DTEND;TZID=America/New_York:20260426T160000
DTSTAMP:20260420T043053
CREATED:20250906T204706Z
LAST-MODIFIED:20251118T201729Z
UID:3130-1777111200-1777219200@www.clubphotodeboisbriand.org
SUMMARY:Exposition annuelle 2026
DESCRIPTION:Voilà! \nL’exposition annuelle nous permet de contempler les plus belles photographies prises en 2025-2026 par les membres du Club photo de Boisbriand. \nVenez en grand nombre ! \n 
URL:https://www.clubphotodeboisbriand.org/evenement/exposition-annuelle-2026/
LOCATION:Maison du citoyen\, 955 Bd de la Grande-Allée\, Boisbriand\, QC\, J7G 1W6\, Canada
CATEGORIES:Exposition
END:VEVENT
BEGIN:VEVENT
DTSTART;TZID=America/New_York:20260430T190000
DTEND;TZID=America/New_York:20260430T220000
DTSTAMP:20260420T043053
CREATED:20250905T040000Z
LAST-MODIFIED:20250906T210818Z
UID:2999-1777575600-1777586400@www.clubphotodeboisbriand.org
SUMMARY:Assemblée générale annuelle
DESCRIPTION:Soirée d’élections des membres du conseil d’administration 2026-2027 \nBilan de la saison 2025-2026 !
URL:https://www.clubphotodeboisbriand.org/evenement/assemblee-generale-annuelle-2/
LOCATION:Maison du citoyen\, 955 Bd de la Grande-Allée\, Boisbriand\, QC\, J7G 1W6\, Canada
CATEGORIES:Soirées spéciales
END:VEVENT
END:VCALENDAR