BEGIN:VCALENDAR
VERSION:2.0
PRODID:-//Club photo de Boisbriand - ECPv6.15.20//NONSGML v1.0//EN
CALSCALE:GREGORIAN
METHOD:PUBLISH
X-WR-CALNAME:Club photo de Boisbriand
X-ORIGINAL-URL:https://www.clubphotodeboisbriand.org
X-WR-CALDESC:Évènements pour Club photo de Boisbriand
REFRESH-INTERVAL;VALUE=DURATION:PT1H
X-Robots-Tag:noindex
X-PUBLISHED-TTL:PT1H
BEGIN:VTIMEZONE
TZID:America/New_York
BEGIN:DAYLIGHT
TZOFFSETFROM:-0500
TZOFFSETTO:-0400
TZNAME:EDT
DTSTART:20250309T070000
END:DAYLIGHT
BEGIN:STANDARD
TZOFFSETFROM:-0400
TZOFFSETTO:-0500
TZNAME:EST
DTSTART:20251102T060000
END:STANDARD
BEGIN:DAYLIGHT
TZOFFSETFROM:-0500
TZOFFSETTO:-0400
TZNAME:EDT
DTSTART:20260308T070000
END:DAYLIGHT
BEGIN:STANDARD
TZOFFSETFROM:-0400
TZOFFSETTO:-0500
TZNAME:EST
DTSTART:20261101T060000
END:STANDARD
BEGIN:DAYLIGHT
TZOFFSETFROM:-0500
TZOFFSETTO:-0400
TZNAME:EDT
DTSTART:20270314T070000
END:DAYLIGHT
BEGIN:STANDARD
TZOFFSETFROM:-0400
TZOFFSETTO:-0500
TZNAME:EST
DTSTART:20271107T060000
END:STANDARD
END:VTIMEZONE
BEGIN:VEVENT
DTSTART;TZID=America/New_York:20260424T170000
DTEND;TZID=America/New_York:20260424T220000
DTSTAMP:20260424T055605
CREATED:20250906T204400Z
LAST-MODIFIED:20260106T003035Z
UID:3127-1777050000-1777068000@www.clubphotodeboisbriand.org
SUMMARY:Exposition annuelle 2026 - Vernissage
DESCRIPTION:Bonjour\, \nQuelle belle année déjà qui se termine… \nC’est l’exposition annuelle du Club photographie de Boisbriand et nous débutons par la soirée du vernissage. \nAu plaisir!
URL:https://www.clubphotodeboisbriand.org/evenement/vernissage-de-l-exposition-annuelle-2026/
LOCATION:Maison du citoyen\, 955 Bd de la Grande-Allée\, Boisbriand\, QC\, J7G 1W6\, Canada
CATEGORIES:Exposition
END:VEVENT
END:VCALENDAR